BEGIN:VCALENDAR
PRODID:-//Bureau of Legislative Research//Meetings//EN
VERSION:2.0
CALSCALE:GREGORIAN
METHOD:PUBLISH
X-WR-TIMEZONE:America/Chicago
BEGIN:VTIMEZONE
TZID:America/Chicago
X-LIC-LOCATION:America/Chicago
BEGIN:DAYLIGHT
TZOFFSETTO:-0500
TZOFFSETFROM:+0000
TZNAME:CDT
DTSTART:19700308T020000
RRULE:FREQ=YEARLY;BYMONTH=3;BYDAY=2SU
END:DAYLIGHT
BEGIN:STANDARD
TZOFFSETTO:-0600
TZOFFSETFROM:-0500
TZNAME:CST
DTSTART:19701101T020000
RRULE:FREQ=YEARLY;BYMONTH=3;BYDAY=2SU
END:STANDARD
END:VTIMEZONE
BEGIN:VEVENT
DTSTART:20251117T160000Z
DTEND:20251117T170000Z
DTSTAMP:20251117T160000Z
UID:bd0a6c6e-e6c6-4056-a583-84a10d7d97c5
CREATED:20251120T195634Z
DESCRIPTION;FMTTYPE=text/html:<a href="http://arkleg.state.ar.us/Home/FTPDocument?path=%2FAssembly%2FMeeting+Attachments%2F083%2F27723%2F27723.pdf" target="_blank">Agenda</a>
X-ALT-DESC;FMTTYPE=text/html:<a href="http://arkleg.state.ar.us/Home/FTPDocument?path=%2FAssembly%2FMeeting+Attachments%2F083%2F27723%2F27723.pdf" target="_blank">Agenda</a>
LAST-MODIFIED:20251120T195634Z
LOCATION:Department of Human Services - Pulaski Southwest\, 6801 Baseline Road
SEQUENCE:0
STATUS:CONFIRMED
SUMMARY:ALC-HOSPITAL\, MEDICAID\, & DEVELOPMENTAL DISABILITIES STUDY SUBCOMMITTEE
TRANSP:OPAQUE
END:VEVENT
END:VCALENDAR