BEGIN:VCALENDAR
PRODID:-//Bureau of Legislative Research//Meetings//EN
VERSION:2.0
CALSCALE:GREGORIAN
METHOD:PUBLISH
X-WR-TIMEZONE:America/Chicago
BEGIN:VTIMEZONE
TZID:America/Chicago
X-LIC-LOCATION:America/Chicago
BEGIN:DAYLIGHT
TZOFFSETTO:-0500
TZOFFSETFROM:+0000
TZNAME:CDT
DTSTART:19700308T020000
RRULE:FREQ=YEARLY;BYMONTH=3;BYDAY=2SU
END:DAYLIGHT
BEGIN:STANDARD
TZOFFSETTO:-0600
TZOFFSETFROM:-0500
TZNAME:CST
DTSTART:19701101T020000
RRULE:FREQ=YEARLY;BYMONTH=3;BYDAY=2SU
END:STANDARD
END:VTIMEZONE
BEGIN:VEVENT
DTSTART:20250618T180000Z
DTEND:20250618T190000Z
DTSTAMP:20250618T180000Z
UID:5e2d4f21-0834-487b-ad14-c61acf32610f
CREATED:20250622T203627Z
DESCRIPTION;FMTTYPE=text/html:<a href="http://arkleg.state.ar.us/Home/FTPDocument?path=%2FAssembly%2FMeeting+Attachments%2F480%2F27531%2F27531.pdf" target="_blank">Agenda</a>
X-ALT-DESC;FMTTYPE=text/html:<a href="http://arkleg.state.ar.us/Home/FTPDocument?path=%2FAssembly%2FMeeting+Attachments%2F480%2F27531%2F27531.pdf" target="_blank">Agenda</a>
LAST-MODIFIED:20250622T203627Z
LOCATION:Statehouse Convention Center\, Governor’s Hall 4\, 101 E Markham Street\, Little Rock
SEQUENCE:0
STATUS:CONFIRMED
SUMMARY:CITY\, COUNTY & LOCAL AFFAIRS COMMITTEE - HOUSE AND SENATE
TRANSP:OPAQUE
END:VEVENT
END:VCALENDAR