BEGIN:VCALENDAR
PRODID:-//Bureau of Legislative Research//Meetings//EN
VERSION:2.0
CALSCALE:GREGORIAN
METHOD:PUBLISH
X-WR-TIMEZONE:America/Chicago
BEGIN:VTIMEZONE
TZID:America/Chicago
X-LIC-LOCATION:America/Chicago
BEGIN:DAYLIGHT
TZOFFSETTO:-0500
TZOFFSETFROM:+0000
TZNAME:CDT
DTSTART:19700308T020000
RRULE:FREQ=YEARLY;BYMONTH=3;BYDAY=2SU
END:DAYLIGHT
BEGIN:STANDARD
TZOFFSETTO:-0600
TZOFFSETFROM:-0500
TZNAME:CST
DTSTART:19701101T020000
RRULE:FREQ=YEARLY;BYMONTH=3;BYDAY=2SU
END:STANDARD
END:VTIMEZONE
BEGIN:VEVENT
DTSTART:20171006T143000Z
DTEND:20171006T153000Z
DTSTAMP:20171006T143000Z
UID:1c1a639b-2d16-43f6-8664-433206dd2110
CREATED:20171009T175057Z
DESCRIPTION;FMTTYPE=text/html:<a href="http://arkleg.state.ar.us/Home/FTPDocument?path=%2FAssembly%2FMeeting+Attachments%2F500%2F15946%2F15946.pdf" target="_blank">Agenda</a>
X-ALT-DESC;FMTTYPE=text/html:<a href="http://arkleg.state.ar.us/Home/FTPDocument?path=%2FAssembly%2FMeeting+Attachments%2F500%2F15946%2F15946.pdf" target="_blank">Agenda</a>
LAST-MODIFIED:20171009T175057Z
LOCATION:413 Central Avenue\, Hot Springs
SEQUENCE:0
STATUS:CONFIRMED
SUMMARY:STATE AGENCIES & GOVT'L AFFAIRS-SENATE & STATE AGENCIES HOUSE ELECTIONS SUB
TRANSP:OPAQUE
END:VEVENT
END:VCALENDAR