BEGIN:VCALENDAR
PRODID:-//Bureau of Legislative Research//Meetings//EN
VERSION:2.0
CALSCALE:GREGORIAN
METHOD:PUBLISH
X-WR-TIMEZONE:America/Chicago
BEGIN:VTIMEZONE
TZID:America/Chicago
X-LIC-LOCATION:America/Chicago
BEGIN:DAYLIGHT
TZOFFSETTO:-0500
TZOFFSETFROM:+0000
TZNAME:CDT
DTSTART:19700308T020000
RRULE:FREQ=YEARLY;BYMONTH=3;BYDAY=2SU
END:DAYLIGHT
BEGIN:STANDARD
TZOFFSETTO:-0600
TZOFFSETFROM:-0500
TZNAME:CST
DTSTART:19701101T020000
RRULE:FREQ=YEARLY;BYMONTH=3;BYDAY=2SU
END:STANDARD
END:VTIMEZONE
BEGIN:VEVENT
DTSTART:20160825T191500Z
DTEND:20160825T201500Z
DTSTAMP:20160825T191500Z
UID:9bf1c119-8b0c-4cbf-a617-fe6a3f9ed2c9
CREATED:20161212T203704Z
DESCRIPTION;FMTTYPE=text/html:<a href="http://arkleg.state.ar.us/Home/FTPDocument?path=%2FAssembly%2FMeeting+Attachments%2F423%2F14578%2F14578.pdf" target="_blank">Agenda</a>
X-ALT-DESC;FMTTYPE=text/html:<a href="http://arkleg.state.ar.us/Home/FTPDocument?path=%2FAssembly%2FMeeting+Attachments%2F423%2F14578%2F14578.pdf" target="_blank">Agenda</a>
LAST-MODIFIED:20161212T203704Z
LOCATION:Hot Springs Convention Center\, 134 Convention Blvd\, Hot Springs
SEQUENCE:0
STATUS:CONFIRMED
SUMMARY:LEG CRIMINAL JUSTICE TF & HOUSE & SENATE JUDICIARY & BEHAVIORAL HEALTH TF
TRANSP:OPAQUE
END:VEVENT
END:VCALENDAR