BEGIN:VCALENDAR
PRODID:-//Bureau of Legislative Research//Meetings//EN
VERSION:2.0
CALSCALE:GREGORIAN
METHOD:PUBLISH
X-WR-TIMEZONE:America/Chicago
BEGIN:VTIMEZONE
TZID:America/Chicago
X-LIC-LOCATION:America/Chicago
BEGIN:DAYLIGHT
TZOFFSETTO:-0500
TZOFFSETFROM:+0000
TZNAME:CDT
DTSTART:19700308T020000
RRULE:FREQ=YEARLY;BYMONTH=3;BYDAY=2SU
END:DAYLIGHT
BEGIN:STANDARD
TZOFFSETTO:-0600
TZOFFSETFROM:-0500
TZNAME:CST
DTSTART:19701101T020000
RRULE:FREQ=YEARLY;BYMONTH=3;BYDAY=2SU
END:STANDARD
END:VTIMEZONE
BEGIN:VEVENT
DTSTART:20140108T200000Z
DTEND:20140108T210000Z
DTSTAMP:20140108T200000Z
UID:01d9b867-e867-4c5b-ae31-7f87375984fb
CREATED:20140108T170822Z
DESCRIPTION;FMTTYPE=text/html:<a href="http://arkleg.state.ar.us/Home/FTPDocument?path=%2FAssembly%2FMeeting+Attachments%2F080%2F12304%2F12304.pdf" target="_blank">Agenda</a>
X-ALT-DESC;FMTTYPE=text/html:<a href="http://arkleg.state.ar.us/Home/FTPDocument?path=%2FAssembly%2FMeeting+Attachments%2F080%2F12304%2F12304.pdf" target="_blank">Agenda</a>
LAST-MODIFIED:20140108T170822Z
LOCATION:Room B\, MAC
SEQUENCE:0
STATUS:CONFIRMED
SUMMARY: ALC-HOSPITAL AND MEDICAID STUDY SUBCOMMITTEE
TRANSP:OPAQUE
END:VEVENT
END:VCALENDAR