BEGIN:VCALENDAR
PRODID:-//Bureau of Legislative Research//Meetings//EN
VERSION:2.0
CALSCALE:GREGORIAN
METHOD:PUBLISH
X-WR-TIMEZONE:America/Chicago
BEGIN:VTIMEZONE
TZID:America/Chicago
X-LIC-LOCATION:America/Chicago
BEGIN:DAYLIGHT
TZOFFSETTO:-0500
TZOFFSETFROM:+0000
TZNAME:CDT
DTSTART:19700308T020000
RRULE:FREQ=YEARLY;BYMONTH=3;BYDAY=2SU
END:DAYLIGHT
BEGIN:STANDARD
TZOFFSETTO:-0600
TZOFFSETFROM:-0500
TZNAME:CST
DTSTART:19701101T020000
RRULE:FREQ=YEARLY;BYMONTH=3;BYDAY=2SU
END:STANDARD
END:VTIMEZONE
BEGIN:VEVENT
DTSTART:20120111T160000Z
DTEND:20120111T170000Z
DTSTAMP:20120111T160000Z
UID:69ef76c8-0418-4b13-b518-24d8af2b7b9f
CREATED:20120110T211538Z
DESCRIPTION;FMTTYPE=text/html:<a href="http://arkleg.state.ar.us/Home/FTPDocument?path=%2FAssembly%2FMeeting+Attachments%2F838%2F10133%2F10133.pdf" target="_blank">Agenda</a>
X-ALT-DESC;FMTTYPE=text/html:<a href="http://arkleg.state.ar.us/Home/FTPDocument?path=%2FAssembly%2FMeeting+Attachments%2F838%2F10133%2F10133.pdf" target="_blank">Agenda</a>
LAST-MODIFIED:20120110T211538Z
LOCATION:Room 149
SEQUENCE:0
STATUS:CONFIRMED
SUMMARY:TASK FORCE ON SUBSTANCE ABUSE TREATMENT SERVICES
TRANSP:OPAQUE
END:VEVENT
END:VCALENDAR