BEGIN:VCALENDAR
PRODID:-//Bureau of Legislative Research//Meetings//EN
VERSION:2.0
CALSCALE:GREGORIAN
METHOD:PUBLISH
X-WR-TIMEZONE:America/Chicago
BEGIN:VTIMEZONE
TZID:America/Chicago
X-LIC-LOCATION:America/Chicago
BEGIN:DAYLIGHT
TZOFFSETTO:-0500
TZOFFSETFROM:+0000
TZNAME:CDT
DTSTART:19700308T020000
RRULE:FREQ=YEARLY;BYMONTH=3;BYDAY=2SU
END:DAYLIGHT
BEGIN:STANDARD
TZOFFSETTO:-0600
TZOFFSETFROM:-0500
TZNAME:CST
DTSTART:19701101T020000
RRULE:FREQ=YEARLY;BYMONTH=3;BYDAY=2SU
END:STANDARD
END:VTIMEZONE
BEGIN:VEVENT
DTSTART:20260706T130000Z
DTEND:20260706T140000Z
DTSTAMP:20260706T130000Z
UID:104471ed-63ff-42d9-9d8e-a733870c8942
CREATED:20260417T153638Z
DESCRIPTION;FMTTYPE=text/html:
X-ALT-DESC;FMTTYPE=text/html:
LAST-MODIFIED:20260417T153638Z
LOCATION:OSC
SEQUENCE:0
STATUS:CONFIRMED
SUMMARY:SECRETARY OF STATE 
TRANSP:OPAQUE
END:VEVENT
END:VCALENDAR