BEGIN:VCALENDAR
PRODID:-//Bureau of Legislative Research//Meetings//EN
VERSION:2.0
CALSCALE:GREGORIAN
METHOD:PUBLISH
X-WR-TIMEZONE:America/Chicago
BEGIN:VTIMEZONE
TZID:America/Chicago
X-LIC-LOCATION:America/Chicago
BEGIN:DAYLIGHT
TZOFFSETTO:-0500
TZOFFSETFROM:+0000
TZNAME:CDT
DTSTART:19700308T020000
RRULE:FREQ=YEARLY;BYMONTH=3;BYDAY=2SU
END:DAYLIGHT
BEGIN:STANDARD
TZOFFSETTO:-0600
TZOFFSETFROM:-0500
TZNAME:CST
DTSTART:19701101T020000
RRULE:FREQ=YEARLY;BYMONTH=3;BYDAY=2SU
END:STANDARD
END:VTIMEZONE
BEGIN:VEVENT
DTSTART:20260713T150000Z
DTEND:20260713T160000Z
DTSTAMP:20260713T150000Z
UID:3b24c729-1f2e-408f-8966-3e09b5bfa0a0
CREATED:20260317T210339Z
DESCRIPTION;FMTTYPE=text/html:
X-ALT-DESC;FMTTYPE=text/html:
LAST-MODIFIED:20260317T210339Z
LOCATION:Room A\, MAC
SEQUENCE:0
STATUS:CONFIRMED
SUMMARY:ALC-HOSPITAL\, MEDICAID\, & DEVELOPMENTAL DISABILITIES STUDY SUBCOMMITTEE
TRANSP:OPAQUE
END:VEVENT
END:VCALENDAR